BEGIN:VCALENDAR
VERSION:2.0
PRODID:-//NOEAFT - ECPv6.15.20//NONSGML v1.0//EN
CALSCALE:GREGORIAN
METHOD:PUBLISH
X-ORIGINAL-URL:https://noeaft.com
X-WR-CALDESC:Events for NOEAFT
REFRESH-INTERVAL;VALUE=DURATION:PT1H
X-Robots-Tag:noindex
X-PUBLISHED-TTL:PT1H
BEGIN:VTIMEZONE
TZID:America/Chicago
BEGIN:DAYLIGHT
TZOFFSETFROM:-0600
TZOFFSETTO:-0500
TZNAME:CDT
DTSTART:20230312T080000
END:DAYLIGHT
BEGIN:STANDARD
TZOFFSETFROM:-0500
TZOFFSETTO:-0600
TZNAME:CST
DTSTART:20231105T070000
END:STANDARD
BEGIN:DAYLIGHT
TZOFFSETFROM:-0600
TZOFFSETTO:-0500
TZNAME:CDT
DTSTART:20240310T080000
END:DAYLIGHT
BEGIN:STANDARD
TZOFFSETFROM:-0500
TZOFFSETTO:-0600
TZNAME:CST
DTSTART:20241103T070000
END:STANDARD
BEGIN:DAYLIGHT
TZOFFSETFROM:-0600
TZOFFSETTO:-0500
TZNAME:CDT
DTSTART:20250309T080000
END:DAYLIGHT
BEGIN:STANDARD
TZOFFSETFROM:-0500
TZOFFSETTO:-0600
TZNAME:CST
DTSTART:20251102T070000
END:STANDARD
BEGIN:DAYLIGHT
TZOFFSETFROM:-0600
TZOFFSETTO:-0500
TZNAME:CDT
DTSTART:20260308T080000
END:DAYLIGHT
BEGIN:STANDARD
TZOFFSETFROM:-0500
TZOFFSETTO:-0600
TZNAME:CST
DTSTART:20261101T070000
END:STANDARD
BEGIN:DAYLIGHT
TZOFFSETFROM:-0600
TZOFFSETTO:-0500
TZNAME:CDT
DTSTART:20270314T080000
END:DAYLIGHT
BEGIN:STANDARD
TZOFFSETFROM:-0500
TZOFFSETTO:-0600
TZNAME:CST
DTSTART:20271107T070000
END:STANDARD
END:VTIMEZONE
BEGIN:VEVENT
DTSTART;TZID=America/Chicago:20240530T170000
DTEND;TZID=America/Chicago:20240530T210000
DTSTAMP:20260425T054902
CREATED:20240410T074450Z
LAST-MODIFIED:20240410T074450Z
UID:16802-1717088400-1717102800@noeaft.com
SUMMARY:Captain's Dinner
DESCRIPTION:
URL:https://noeaft.com/event/captains-dinner/
LOCATION:Grand Isle Marina\, 158 Sandollar Ct\, Grand Isle\, LA\, 70358\, United States
CATEGORIES:NOEAFT 45
END:VEVENT
BEGIN:VEVENT
DTSTART;VALUE=DATE:20240531
DTEND;VALUE=DATE:20240601
DTSTAMP:20260425T054902
CREATED:20240410T074543Z
LAST-MODIFIED:20240410T074614Z
UID:16805-1717113600-1717199999@noeaft.com
SUMMARY:Rodeo Day 1
DESCRIPTION:
URL:https://noeaft.com/event/rodeo-day-1/
LOCATION:Grand Isle Marina\, 158 Sandollar Ct\, Grand Isle\, LA\, 70358\, United States
CATEGORIES:NOEAFT 45
END:VEVENT
BEGIN:VEVENT
DTSTART;TZID=America/Chicago:20240531T130000
DTEND;TZID=America/Chicago:20240531T160000
DTSTAMP:20260425T054902
CREATED:20240410T074755Z
LAST-MODIFIED:20240410T074755Z
UID:16813-1717160400-1717171200@noeaft.com
SUMMARY:Scales Open Day 1
DESCRIPTION:
URL:https://noeaft.com/event/scales-open-day-1/
LOCATION:Grand Isle Marina\, 158 Sandollar Ct\, Grand Isle\, LA\, 70358\, United States
CATEGORIES:NOEAFT 45
END:VEVENT
BEGIN:VEVENT
DTSTART;TZID=America/Chicago:20240531T190000
DTEND;TZID=America/Chicago:20240531T230000
DTSTAMP:20260425T054902
CREATED:20240410T074652Z
LAST-MODIFIED:20240410T074652Z
UID:16809-1717182000-1717196400@noeaft.com
SUMMARY:Live Music Day 1
DESCRIPTION:
URL:https://noeaft.com/event/live-music-day-1/
LOCATION:Grand Isle Marina\, 158 Sandollar Ct\, Grand Isle\, LA\, 70358\, United States
CATEGORIES:NOEAFT 45
END:VEVENT
BEGIN:VEVENT
DTSTART;VALUE=DATE:20240601
DTEND;VALUE=DATE:20240602
DTSTAMP:20260425T054902
CREATED:20240410T074559Z
LAST-MODIFIED:20240410T074559Z
UID:16807-1717200000-1717286399@noeaft.com
SUMMARY:Rodeo Day 2
DESCRIPTION:
URL:https://noeaft.com/event/rodeo-day-2-2/
LOCATION:Grand Isle Marina\, 158 Sandollar Ct\, Grand Isle\, LA\, 70358\, United States
CATEGORIES:NOEAFT 45
END:VEVENT
BEGIN:VEVENT
DTSTART;TZID=America/Chicago:20240601T130000
DTEND;TZID=America/Chicago:20240601T160000
DTSTAMP:20260425T054902
CREATED:20240410T074816Z
LAST-MODIFIED:20240410T074816Z
UID:16815-1717246800-1717257600@noeaft.com
SUMMARY:Scales Open Day 2
DESCRIPTION:
URL:https://noeaft.com/event/scales-open-day-2-2/
LOCATION:Grand Isle Marina\, 158 Sandollar Ct\, Grand Isle\, LA\, 70358\, United States
CATEGORIES:NOEAFT 45
END:VEVENT
BEGIN:VEVENT
DTSTART;TZID=America/Chicago:20240601T190000
DTEND;TZID=America/Chicago:20240601T230000
DTSTAMP:20260425T054902
CREATED:20240410T074715Z
LAST-MODIFIED:20240410T074715Z
UID:16811-1717268400-1717282800@noeaft.com
SUMMARY:Live Music Day 2
DESCRIPTION:
URL:https://noeaft.com/event/live-music-day-2/
LOCATION:Grand Isle Marina\, 158 Sandollar Ct\, Grand Isle\, LA\, 70358\, United States
CATEGORIES:NOEAFT 45
END:VEVENT
BEGIN:VEVENT
DTSTART;VALUE=DATE:20240808
DTEND;VALUE=DATE:20240809
DTSTAMP:20260425T054902
CREATED:20240410T075004Z
LAST-MODIFIED:20240410T075004Z
UID:16817-1723075200-1723161599@noeaft.com
SUMMARY:Awards Banquet
DESCRIPTION:
URL:https://noeaft.com/event/awards-banquet-2/
LOCATION:Rock ‘N’ Bowl\, 3016 S Carrollton Ave\, New Orleans\, LA\, 70118\, United States
CATEGORIES:NOEAFT 45
END:VEVENT
BEGIN:VEVENT
DTSTART;TZID=America/Chicago:20250515T170000
DTEND;TZID=America/Chicago:20250515T190000
DTSTAMP:20260425T054902
CREATED:20250321T175553Z
LAST-MODIFIED:20250321T175553Z
UID:18078-1747328400-1747335600@noeaft.com
SUMMARY:Captain’s Dinner
DESCRIPTION:Serving:  Fried Fish and Jambalaya
URL:https://noeaft.com/event/captains-dinner-2/
LOCATION:Grand Isle Marina\, 158 Sandollar Ct\, Grand Isle\, LA\, 70358\, United States
CATEGORIES:NOEAFT 46
END:VEVENT
BEGIN:VEVENT
DTSTART;TZID=America/Chicago:20250516T130000
DTEND;TZID=America/Chicago:20250516T180000
DTSTAMP:20260425T054903
CREATED:20250321T180203Z
LAST-MODIFIED:20250321T180203Z
UID:18087-1747400400-1747418400@noeaft.com
SUMMARY:Scales Open Day 1
DESCRIPTION:
URL:https://noeaft.com/event/scales-open-day-1-2/
LOCATION:Grand Isle Marina\, 158 Sandollar Ct\, Grand Isle\, LA\, 70358\, United States
CATEGORIES:NOEAFT 46
END:VEVENT
BEGIN:VEVENT
DTSTART;TZID=America/Chicago:20250516T160000
DTEND;TZID=America/Chicago:20250516T190000
DTSTAMP:20260425T054903
CREATED:20250321T175657Z
LAST-MODIFIED:20250321T175657Z
UID:18081-1747411200-1747422000@noeaft.com
SUMMARY:Rodeo Day 1
DESCRIPTION:Serving:  Boiled Crawfish
URL:https://noeaft.com/event/rodeo-day-1-2/
LOCATION:Grand Isle Marina\, 158 Sandollar Ct\, Grand Isle\, LA\, 70358\, United States
CATEGORIES:NOEAFT 46
END:VEVENT
BEGIN:VEVENT
DTSTART;TZID=America/Chicago:20250517T130000
DTEND;TZID=America/Chicago:20250517T160000
DTSTAMP:20260425T054903
CREATED:20250321T180243Z
LAST-MODIFIED:20250321T180243Z
UID:18089-1747486800-1747497600@noeaft.com
SUMMARY:Scales Open Day 2
DESCRIPTION:
URL:https://noeaft.com/event/scales-open-day-2-3/
LOCATION:Grand Isle Marina\, 158 Sandollar Ct\, Grand Isle\, LA\, 70358\, United States
CATEGORIES:NOEAFT 46
END:VEVENT
BEGIN:VEVENT
DTSTART;TZID=America/Chicago:20250517T130000
DTEND;TZID=America/Chicago:20250517T170000
DTSTAMP:20260425T054903
CREATED:20250321T175747Z
LAST-MODIFIED:20250321T175747Z
UID:18083-1747486800-1747501200@noeaft.com
SUMMARY:Rodeo Day 2
DESCRIPTION:Serving:  Brats\, Burgers\, and Sides
URL:https://noeaft.com/event/rodeo-day-2-3/
LOCATION:Grand Isle Marina\, 158 Sandollar Ct\, Grand Isle\, LA\, 70358\, United States
CATEGORIES:NOEAFT 46
END:VEVENT
BEGIN:VEVENT
DTSTART;VALUE=DATE:20250807
DTEND;VALUE=DATE:20250808
DTSTAMP:20260425T054903
CREATED:20250321T180001Z
LAST-MODIFIED:20250321T180001Z
UID:18085-1754524800-1754611199@noeaft.com
SUMMARY:Awards Banquet
DESCRIPTION:
URL:https://noeaft.com/event/awards-banquet-3/
LOCATION:Rock ‘N’ Bowl\, 3016 S Carrollton Ave\, New Orleans\, LA\, 70118\, United States
CATEGORIES:NOEAFT 46
END:VEVENT
BEGIN:VEVENT
DTSTART;TZID=America/Chicago:20260604T170000
DTEND;TZID=America/Chicago:20260604T190000
DTSTAMP:20260425T054903
CREATED:20260413T004135Z
LAST-MODIFIED:20260413T004135Z
UID:18366-1780592400-1780599600@noeaft.com
SUMMARY:Captain's Dinner
DESCRIPTION:Serving:  Fried Fish and Jambalaya
URL:https://noeaft.com/event/captains-dinner-3/
LOCATION:Grand Isle Marina\, 158 Sandollar Ct\, Grand Isle\, LA\, 70358\, United States
CATEGORIES:NOEAFT 47
END:VEVENT
BEGIN:VEVENT
DTSTART;TZID=America/Chicago:20260605T140000
DTEND;TZID=America/Chicago:20260605T180000
DTSTAMP:20260425T054903
CREATED:20260413T004229Z
LAST-MODIFIED:20260413T004229Z
UID:18368-1780668000-1780682400@noeaft.com
SUMMARY:Scales Open Day 1
DESCRIPTION:
URL:https://noeaft.com/event/scales-open-day-1-3/
LOCATION:Grand Isle Marina\, 158 Sandollar Ct\, Grand Isle\, LA\, 70358\, United States
CATEGORIES:NOEAFT 47
END:VEVENT
BEGIN:VEVENT
DTSTART;TZID=America/Chicago:20260605T160000
DTEND;TZID=America/Chicago:20260605T190000
DTSTAMP:20260425T054903
CREATED:20260413T004316Z
LAST-MODIFIED:20260413T004556Z
UID:18370-1780675200-1780686000@noeaft.com
SUMMARY:Rodeo Day 1
DESCRIPTION:Serving:  Boiled Crawfish
URL:https://noeaft.com/event/rodeo-day-1-3/
LOCATION:Grand Isle Marina\, 158 Sandollar Ct\, Grand Isle\, LA\, 70358\, United States
CATEGORIES:NOEAFT 47
END:VEVENT
BEGIN:VEVENT
DTSTART;TZID=America/Chicago:20260606T130000
DTEND;TZID=America/Chicago:20260606T160000
DTSTAMP:20260425T054903
CREATED:20260413T004418Z
LAST-MODIFIED:20260413T004629Z
UID:18374-1780750800-1780761600@noeaft.com
SUMMARY:Scales Open Day 2
DESCRIPTION:
URL:https://noeaft.com/event/scales-open-day-2-4/
LOCATION:Grand Isle Marina\, 158 Sandollar Ct\, Grand Isle\, LA\, 70358\, United States
CATEGORIES:NOEAFT 47
END:VEVENT
BEGIN:VEVENT
DTSTART;TZID=America/Chicago:20260606T130000
DTEND;TZID=America/Chicago:20260606T170000
DTSTAMP:20260425T054903
CREATED:20260413T004343Z
LAST-MODIFIED:20260413T004611Z
UID:18372-1780750800-1780765200@noeaft.com
SUMMARY:Rodeo Day 2
DESCRIPTION:
URL:https://noeaft.com/event/rodeo-day-2-4/
LOCATION:Grand Isle Marina\, 158 Sandollar Ct\, Grand Isle\, LA\, 70358\, United States
CATEGORIES:NOEAFT 47
END:VEVENT
BEGIN:VEVENT
DTSTART;TZID=America/Chicago:20260606T163000
DTEND;TZID=America/Chicago:20260606T170000
DTSTAMP:20260425T054903
CREATED:20260413T004518Z
LAST-MODIFIED:20260413T004656Z
UID:18376-1780763400-1780765200@noeaft.com
SUMMARY:Awards Presentation
DESCRIPTION:Follows close of scales on Day 2
URL:https://noeaft.com/event/awards-presentation/
LOCATION:Grand Isle Marina\, 158 Sandollar Ct\, Grand Isle\, LA\, 70358\, United States
CATEGORIES:NOEAFT 47
END:VEVENT
END:VCALENDAR