BEGIN:VCALENDAR
VERSION:2.0
PRODID:-//NOEAFT - ECPv6.15.20//NONSGML v1.0//EN
CALSCALE:GREGORIAN
METHOD:PUBLISH
X-ORIGINAL-URL:https://noeaft.com
X-WR-CALDESC:Events for NOEAFT
REFRESH-INTERVAL;VALUE=DURATION:PT1H
X-Robots-Tag:noindex
X-PUBLISHED-TTL:PT1H
BEGIN:VTIMEZONE
TZID:America/Chicago
BEGIN:DAYLIGHT
TZOFFSETFROM:-0600
TZOFFSETTO:-0500
TZNAME:CDT
DTSTART:20210314T080000
END:DAYLIGHT
BEGIN:STANDARD
TZOFFSETFROM:-0500
TZOFFSETTO:-0600
TZNAME:CST
DTSTART:20211107T070000
END:STANDARD
BEGIN:DAYLIGHT
TZOFFSETFROM:-0600
TZOFFSETTO:-0500
TZNAME:CDT
DTSTART:20220313T080000
END:DAYLIGHT
BEGIN:STANDARD
TZOFFSETFROM:-0500
TZOFFSETTO:-0600
TZNAME:CST
DTSTART:20221106T070000
END:STANDARD
BEGIN:DAYLIGHT
TZOFFSETFROM:-0600
TZOFFSETTO:-0500
TZNAME:CDT
DTSTART:20230312T080000
END:DAYLIGHT
BEGIN:STANDARD
TZOFFSETFROM:-0500
TZOFFSETTO:-0600
TZNAME:CST
DTSTART:20231105T070000
END:STANDARD
END:VTIMEZONE
BEGIN:VEVENT
DTSTART;TZID=America/Chicago:20220806T150000
DTEND;TZID=America/Chicago:20220806T150000
DTSTAMP:20260423T152745
CREATED:20220701T073510Z
LAST-MODIFIED:20220701T073510Z
UID:6715-1659798000-1659798000@noeaft.com
SUMMARY:Scales Close
DESCRIPTION:
URL:https://noeaft.com/event/scales-close/
LOCATION:Campo’s Marina\, 1301 Yscloskey Hwy\, St. Bernard\, LA\, 70085\, United States
CATEGORIES:NOEAFT 43
END:VEVENT
BEGIN:VEVENT
DTSTART;TZID=America/Chicago:20220806T110000
DTEND;TZID=America/Chicago:20220806T233000
DTSTAMP:20260423T152745
CREATED:20220701T073335Z
LAST-MODIFIED:20220701T073436Z
UID:6708-1659783600-1659828600@noeaft.com
SUMMARY:Rodeo
DESCRIPTION:
URL:https://noeaft.com/event/rodeo/
LOCATION:Campo’s Marina\, 1301 Yscloskey Hwy\, St. Bernard\, LA\, 70085\, United States
CATEGORIES:NOEAFT 43
END:VEVENT
BEGIN:VEVENT
DTSTART;TZID=America/Chicago:20220806T110000
DTEND;TZID=America/Chicago:20220806T160000
DTSTAMP:20260423T152745
CREATED:20220701T073415Z
LAST-MODIFIED:20220701T073415Z
UID:6713-1659783600-1659801600@noeaft.com
SUMMARY:DJ
DESCRIPTION:
URL:https://noeaft.com/event/dj/
LOCATION:Campo’s Marina\, 1301 Yscloskey Hwy\, St. Bernard\, LA\, 70085\, United States
CATEGORIES:NOEAFT 43
END:VEVENT
BEGIN:VEVENT
DTSTART;TZID=America/Chicago:20220805T170000
DTEND;TZID=America/Chicago:20220805T210000
DTSTAMP:20260423T152745
CREATED:20220701T073211Z
LAST-MODIFIED:20220701T073211Z
UID:6694-1659718800-1659733200@noeaft.com
SUMMARY:Captain's Party
DESCRIPTION:
URL:https://noeaft.com/event/captains-party/
LOCATION:7 Black Beard Ky\, St Bernard\, LA 70085\, 7 Black Beard Ky\, St Bernard\, LA\, 70085\, United States
CATEGORIES:NOEAFT 43
END:VEVENT
END:VCALENDAR