BEGIN:VCALENDAR
VERSION:2.0
PRODID:-//NOEAFT - ECPv6.15.20//NONSGML v1.0//EN
CALSCALE:GREGORIAN
METHOD:PUBLISH
X-ORIGINAL-URL:https://noeaft.com
X-WR-CALDESC:Events for NOEAFT
REFRESH-INTERVAL;VALUE=DURATION:PT1H
X-Robots-Tag:noindex
X-PUBLISHED-TTL:PT1H
BEGIN:VTIMEZONE
TZID:America/Chicago
BEGIN:DAYLIGHT
TZOFFSETFROM:-0600
TZOFFSETTO:-0500
TZNAME:CDT
DTSTART:20220313T080000
END:DAYLIGHT
BEGIN:STANDARD
TZOFFSETFROM:-0500
TZOFFSETTO:-0600
TZNAME:CST
DTSTART:20221106T070000
END:STANDARD
BEGIN:DAYLIGHT
TZOFFSETFROM:-0600
TZOFFSETTO:-0500
TZNAME:CDT
DTSTART:20230312T080000
END:DAYLIGHT
BEGIN:STANDARD
TZOFFSETFROM:-0500
TZOFFSETTO:-0600
TZNAME:CST
DTSTART:20231105T070000
END:STANDARD
BEGIN:DAYLIGHT
TZOFFSETFROM:-0600
TZOFFSETTO:-0500
TZNAME:CDT
DTSTART:20240310T080000
END:DAYLIGHT
BEGIN:STANDARD
TZOFFSETFROM:-0500
TZOFFSETTO:-0600
TZNAME:CST
DTSTART:20241103T070000
END:STANDARD
END:VTIMEZONE
BEGIN:VEVENT
DTSTART;TZID=America/Chicago:20230520T110000
DTEND;TZID=America/Chicago:20230520T230000
DTSTAMP:20260425T111324
CREATED:20230307T033006Z
LAST-MODIFIED:20230307T033006Z
UID:10155-1684580400-1684623600@noeaft.com
SUMMARY:Rodeo - Day 2
DESCRIPTION:
URL:https://noeaft.com/event/rodeo-day-2/
LOCATION:Bridge Side Marina\, 1618 LA-1\, Grand Isle\, LA\, 70358\, United States
CATEGORIES:NOEAFT 44
END:VEVENT
BEGIN:VEVENT
DTSTART;TZID=America/Chicago:20230520T150000
DTEND;TZID=America/Chicago:20230520T180000
DTSTAMP:20260425T111324
CREATED:20230307T033242Z
LAST-MODIFIED:20230307T033242Z
UID:10166-1684594800-1684605600@noeaft.com
SUMMARY:Scales Open - Day 2
DESCRIPTION:
URL:https://noeaft.com/event/scales-open-day-2/
LOCATION:Bridge Side Marina\, 1618 LA-1\, Grand Isle\, LA\, 70358\, United States
CATEGORIES:NOEAFT 44
END:VEVENT
BEGIN:VEVENT
DTSTART;TZID=America/Chicago:20230520T160000
DTEND;TZID=America/Chicago:20230520T210000
DTSTAMP:20260425T111324
CREATED:20230307T033131Z
LAST-MODIFIED:20230307T033131Z
UID:10161-1684598400-1684616400@noeaft.com
SUMMARY:DJ - Day 2
DESCRIPTION:
URL:https://noeaft.com/event/dj-day-2/
LOCATION:Bridge Side Marina\, 1618 LA-1\, Grand Isle\, LA\, 70358\, United States
CATEGORIES:NOEAFT 44
END:VEVENT
END:VCALENDAR