BEGIN:VCALENDAR
VERSION:2.0
PRODID:-//NOEAFT - ECPv6.15.20//NONSGML v1.0//EN
CALSCALE:GREGORIAN
METHOD:PUBLISH
X-ORIGINAL-URL:https://noeaft.com
X-WR-CALDESC:Events for NOEAFT
REFRESH-INTERVAL;VALUE=DURATION:PT1H
X-Robots-Tag:noindex
X-PUBLISHED-TTL:PT1H
BEGIN:VTIMEZONE
TZID:America/Chicago
BEGIN:DAYLIGHT
TZOFFSETFROM:-0600
TZOFFSETTO:-0500
TZNAME:CDT
DTSTART:20220313T080000
END:DAYLIGHT
BEGIN:STANDARD
TZOFFSETFROM:-0500
TZOFFSETTO:-0600
TZNAME:CST
DTSTART:20221106T070000
END:STANDARD
BEGIN:DAYLIGHT
TZOFFSETFROM:-0600
TZOFFSETTO:-0500
TZNAME:CDT
DTSTART:20230312T080000
END:DAYLIGHT
BEGIN:STANDARD
TZOFFSETFROM:-0500
TZOFFSETTO:-0600
TZNAME:CST
DTSTART:20231105T070000
END:STANDARD
BEGIN:DAYLIGHT
TZOFFSETFROM:-0600
TZOFFSETTO:-0500
TZNAME:CDT
DTSTART:20240310T080000
END:DAYLIGHT
BEGIN:STANDARD
TZOFFSETFROM:-0500
TZOFFSETTO:-0600
TZNAME:CST
DTSTART:20241103T070000
END:STANDARD
END:VTIMEZONE
BEGIN:VEVENT
DTSTART;TZID=America/Chicago:20230519T110000
DTEND;TZID=America/Chicago:20230519T230000
DTSTAMP:20260425T111323
CREATED:20230307T032922Z
LAST-MODIFIED:20230307T040724Z
UID:10152-1684494000-1684537200@noeaft.com
SUMMARY:Rodeo - Day 1
DESCRIPTION:
URL:https://noeaft.com/event/rodeo-2/
LOCATION:Bridge Side Marina\, 1618 LA-1\, Grand Isle\, LA\, 70358\, United States
CATEGORIES:NOEAFT 44
END:VEVENT
BEGIN:VEVENT
DTSTART;TZID=America/Chicago:20230519T150000
DTEND;TZID=America/Chicago:20230519T180000
DTSTAMP:20260425T111323
CREATED:20230307T033206Z
LAST-MODIFIED:20230307T033215Z
UID:10163-1684508400-1684519200@noeaft.com
SUMMARY:Scales Open - Day 1
DESCRIPTION:
URL:https://noeaft.com/event/scale-hours-day-1/
LOCATION:Bridge Side Marina\, 1618 LA-1\, Grand Isle\, LA\, 70358\, United States
CATEGORIES:NOEAFT 44
END:VEVENT
BEGIN:VEVENT
DTSTART;TZID=America/Chicago:20230519T160000
DTEND;TZID=America/Chicago:20230519T210000
DTSTAMP:20260425T111323
CREATED:20230307T033055Z
LAST-MODIFIED:20230307T033106Z
UID:10158-1684512000-1684530000@noeaft.com
SUMMARY:DJ - Day 1
DESCRIPTION:
URL:https://noeaft.com/event/dj-2/
LOCATION:Bridge Side Marina\, 1618 LA-1\, Grand Isle\, LA\, 70358\, United States
CATEGORIES:NOEAFT 44
END:VEVENT
END:VCALENDAR