BEGIN:VCALENDAR
VERSION:2.0
PRODID:-//NOEAFT - ECPv6.15.20//NONSGML v1.0//EN
CALSCALE:GREGORIAN
METHOD:PUBLISH
X-ORIGINAL-URL:https://noeaft.com
X-WR-CALDESC:Events for NOEAFT
REFRESH-INTERVAL;VALUE=DURATION:PT1H
X-Robots-Tag:noindex
X-PUBLISHED-TTL:PT1H
BEGIN:VTIMEZONE
TZID:America/Chicago
BEGIN:DAYLIGHT
TZOFFSETFROM:-0600
TZOFFSETTO:-0500
TZNAME:CDT
DTSTART:20220313T080000
END:DAYLIGHT
BEGIN:STANDARD
TZOFFSETFROM:-0500
TZOFFSETTO:-0600
TZNAME:CST
DTSTART:20221106T070000
END:STANDARD
BEGIN:DAYLIGHT
TZOFFSETFROM:-0600
TZOFFSETTO:-0500
TZNAME:CDT
DTSTART:20230312T080000
END:DAYLIGHT
BEGIN:STANDARD
TZOFFSETFROM:-0500
TZOFFSETTO:-0600
TZNAME:CST
DTSTART:20231105T070000
END:STANDARD
BEGIN:DAYLIGHT
TZOFFSETFROM:-0600
TZOFFSETTO:-0500
TZNAME:CDT
DTSTART:20240310T080000
END:DAYLIGHT
BEGIN:STANDARD
TZOFFSETFROM:-0500
TZOFFSETTO:-0600
TZNAME:CST
DTSTART:20241103T070000
END:STANDARD
END:VTIMEZONE
BEGIN:VEVENT
DTSTART;TZID=America/Chicago:20230518T170000
DTEND;TZID=America/Chicago:20230518T210000
DTSTAMP:20260425T111323
CREATED:20230307T032749Z
LAST-MODIFIED:20230516T213920Z
UID:10146-1684429200-1684443600@noeaft.com
SUMMARY:Captain's Party
DESCRIPTION:
URL:https://noeaft.com/event/captains-party-2/
LOCATION:Camp Milk Shake\, 2720 HWY-1\, Grand Isle\, LA\, 70358\, United States
CATEGORIES:NOEAFT 44
END:VEVENT
END:VCALENDAR